BEGIN:VCALENDAR
VERSION:2.0
PRODID:-//wp-events-plugin.com//7.2.3.1//EN
TZID:Europe/Stockholm
X-WR-TIMEZONE:Europe/Stockholm
BEGIN:VEVENT
UID:23@svegcurling.se
DTSTART;TZID=Europe/Stockholm:20241106T180000
DTEND;TZID=Europe/Stockholm:20250327T200000
DTSTAMP:20241010T161052Z
URL:https://svegcurling.se/event-recurring/ungdomstraning/
SUMMARY:Ungdomsträning
DESCRIPTION:\nFrån barn som är födda 2018 eller tidigare. Så 6 år och 
 uppåt\n\nViktigt att komma ihåg är att ta med sig rena innegympaskor!\n
 \n\nGlidsula\, hjälm och sop finns att låna hos oss på curlinghallen\n
LOCATION:Svegs Curlingklubb\, Gränsgatan 47\, Sveg\, Jämtlands län\, 842
  33\, Härjedalen\, Sverige
X-APPLE-STRUCTURED-LOCATION;VALUE=URI;X-ADDRESS=Gränsgatan 47\, Sveg\, Jä
 mtlands län\, 842 33\, Härjedalen\, Sverige;X-APPLE-RADIUS=100;X-TITLE=S
 vegs Curlingklubb:geo:0,0
END:VEVENT
BEGIN:VTIMEZONE
TZID:Europe/Stockholm
X-LIC-LOCATION:Europe/Stockholm
BEGIN:STANDARD
DTSTART:20241027T020000
TZOFFSETFROM:+0200
TZOFFSETTO:+0100
TZNAME:CET
END:STANDARD
END:VTIMEZONE
END:VCALENDAR